Package: SPLINTER Version: 1.33.0 Command: rm -rf SPLINTER.buildbin-libdir && mkdir SPLINTER.buildbin-libdir && E:\biocbuild\bbs-3.21-bioc\R\bin\R.exe CMD INSTALL --build --library=SPLINTER.buildbin-libdir SPLINTER_1.33.0.tar.gz StartedAt: 2025-02-20 08:51:38 -0500 (Thu, 20 Feb 2025) EndedAt: 2025-02-20 08:52:42 -0500 (Thu, 20 Feb 2025) EllapsedTime: 63.9 seconds RetCode: 0 Status: OK PackageFile: SPLINTER_1.33.0.zip PackageFileSize: 1.082 MiB