Package: SPLINTER Version: 1.33.0 Command: /Library/Frameworks/R.framework/Resources/bin/R CMD build --keep-empty-dirs --no-resave-data SPLINTER StartedAt: 2025-02-20 17:42:32 -0500 (Thu, 20 Feb 2025) EndedAt: 2025-02-20 17:43:14 -0500 (Thu, 20 Feb 2025) EllapsedTime: 41.4 seconds RetCode: 1 Status: ERROR PackageFile: None PackageFileSize: NA