Package: SPIAT Version: 1.9.0 Command: /home/biocbuild/bbs-3.21-bioc/R/bin/R CMD check --install=check:SPIAT.install-out.txt --library=/home/biocbuild/bbs-3.21-bioc/R/site-library --timings SPIAT_1.9.0.tar.gz StartedAt: 2025-02-21 02:12:06 -0500 (Fri, 21 Feb 2025) EndedAt: 2025-02-21 02:20:41 -0500 (Fri, 21 Feb 2025) EllapsedTime: 514.7 seconds RetCode: 0 Status: OK CheckDir: SPIAT.Rcheck Warnings: 0