Package: SPIAT Version: 1.9.0 Command: /home/biocbuild/bbs-3.21-bioc/R/bin/R CMD build --keep-empty-dirs --no-resave-data SPIAT StartedAt: 2025-02-20 19:26:02 -0500 (Thu, 20 Feb 2025) EndedAt: 2025-02-20 19:28:36 -0500 (Thu, 20 Feb 2025) EllapsedTime: 154.2 seconds RetCode: 0 Status: OK PackageFile: SPIAT_1.9.0.tar.gz PackageFileSize: 7.245 MiB