Package: SPIA Version: 2.59.2 Command: E:\biocbuild\bbs-3.21-bioc\R\bin\R.exe CMD INSTALL SPIA StartedAt: 2025-02-17 15:45:54 -0500 (Mon, 17 Feb 2025) EndedAt: 2025-02-17 15:46:06 -0500 (Mon, 17 Feb 2025) EllapsedTime: 11.7 seconds RetCode: 0 Status: OK