Package: SPIA Version: 2.59.2 Command: chmod a+r SPIA -R && E:\biocbuild\bbs-3.21-bioc\R\bin\R.exe CMD build --keep-empty-dirs --no-resave-data SPIA StartedAt: 2025-02-17 21:43:07 -0500 (Mon, 17 Feb 2025) EndedAt: 2025-02-17 21:49:56 -0500 (Mon, 17 Feb 2025) EllapsedTime: 409.9 seconds RetCode: 0 Status: OK PackageFile: SPIA_2.59.2.tar.gz PackageFileSize: 2.45 MiB