Package: SPIA Version: 2.59.2 Command: /home/biocbuild/bbs-3.21-bioc/R/bin/R CMD INSTALL SPIA StartedAt: 2025-02-17 15:31:05 -0500 (Mon, 17 Feb 2025) EndedAt: 2025-02-17 15:31:09 -0500 (Mon, 17 Feb 2025) EllapsedTime: 4.6 seconds RetCode: 0 Status: OK