Package: SPIA Version: 2.59.2 Command: /home/biocbuild/bbs-3.21-bioc/R/bin/R CMD build --keep-empty-dirs --no-resave-data SPIA StartedAt: 2025-02-17 19:18:19 -0500 (Mon, 17 Feb 2025) EndedAt: 2025-02-17 19:24:20 -0500 (Mon, 17 Feb 2025) EllapsedTime: 361.5 seconds RetCode: 0 Status: OK PackageFile: SPIA_2.59.2.tar.gz PackageFileSize: 2.549 MiB