Package: SPIA Version: 2.59.2 Command: /Library/Frameworks/R.framework/Resources/bin/R CMD check --install=check:SPIA.install-out.txt --library=/Library/Frameworks/R.framework/Resources/library --no-vignettes --timings SPIA_2.59.2.tar.gz StartedAt: 2025-02-17 21:35:40 -0500 (Mon, 17 Feb 2025) EndedAt: 2025-02-17 21:38:36 -0500 (Mon, 17 Feb 2025) EllapsedTime: 176.1 seconds RetCode: 0 Status: OK CheckDir: SPIA.Rcheck Warnings: 0