Package: SPIA Version: 2.59.2 Command: /Library/Frameworks/R.framework/Resources/bin/R CMD build --keep-empty-dirs --no-resave-data SPIA StartedAt: 2025-02-17 17:40:41 -0500 (Mon, 17 Feb 2025) EndedAt: 2025-02-17 17:43:35 -0500 (Mon, 17 Feb 2025) EllapsedTime: 174.0 seconds RetCode: 0 Status: OK PackageFile: SPIA_2.59.2.tar.gz PackageFileSize: 2.549 MiB