Package: SPEM Version: 1.47.0 Command: E:\biocbuild\bbs-3.21-bioc\R\bin\R.exe CMD INSTALL SPEM StartedAt: 2025-02-17 15:27:56 -0500 (Mon, 17 Feb 2025) EndedAt: 2025-02-17 15:28:06 -0500 (Mon, 17 Feb 2025) EllapsedTime: 10.7 seconds RetCode: 0 Status: OK