Package: SPEM Version: 1.47.0 Command: /home/biocbuild/bbs-3.21-bioc/R/bin/R CMD INSTALL SPEM StartedAt: 2025-02-17 15:13:34 -0500 (Mon, 17 Feb 2025) EndedAt: 2025-02-17 15:13:39 -0500 (Mon, 17 Feb 2025) EllapsedTime: 5.5 seconds RetCode: 0 Status: OK