Package: SPEM Version: 1.47.0 Command: /home/biocbuild/bbs-3.21-bioc/R/bin/R CMD check --install=check:SPEM.install-out.txt --library=/home/biocbuild/bbs-3.21-bioc/R/site-library --timings SPEM_1.47.0.tar.gz StartedAt: 2025-02-18 02:33:41 -0500 (Tue, 18 Feb 2025) EndedAt: 2025-02-18 02:34:23 -0500 (Tue, 18 Feb 2025) EllapsedTime: 42.0 seconds RetCode: 0 Status: OK CheckDir: SPEM.Rcheck Warnings: 0