Package: SPEM Version: 1.47.0 Command: /home/biocbuild/bbs-3.21-bioc/R/bin/R CMD build --keep-empty-dirs --no-resave-data SPEM StartedAt: 2025-02-17 19:18:16 -0500 (Mon, 17 Feb 2025) EndedAt: 2025-02-17 19:18:24 -0500 (Mon, 17 Feb 2025) EllapsedTime: 8.0 seconds RetCode: 0 Status: OK PackageFile: SPEM_1.47.0.tar.gz PackageFileSize: 601 KiB