Package: SPEM Version: 1.47.0 Command: rm -rf SPEM.buildbin-libdir && mkdir SPEM.buildbin-libdir && /Users/biocbuild/BBS/utils/build-universal.sh SPEM_1.47.0.tar.gz /Library/Frameworks/R.framework/Resources/bin/R SPEM.buildbin-libdir StartedAt: 2025-02-18 00:49:12 -0500 (Tue, 18 Feb 2025) EndedAt: 2025-02-18 00:49:19 -0500 (Tue, 18 Feb 2025) EllapsedTime: 6.9 seconds RetCode: 0 Status: OK PackageFile: SPEM_1.47.0.tgz PackageFileSize: 498.3 KiB