Package: SOMNiBUS Version: 1.15.1 Command: chmod a+r SOMNiBUS -R && E:\biocbuild\bbs-3.21-bioc\R\bin\R.exe CMD build --keep-empty-dirs --no-resave-data SOMNiBUS StartedAt: 2025-02-20 21:55:38 -0500 (Thu, 20 Feb 2025) EndedAt: 2025-02-20 22:00:18 -0500 (Thu, 20 Feb 2025) EllapsedTime: 279.4 seconds RetCode: 0 Status: OK PackageFile: SOMNiBUS_1.15.1.tar.gz PackageFileSize: 1.002 MiB