Package: SOMNiBUS Version: 1.15.1 Command: rm -rf SOMNiBUS.buildbin-libdir && mkdir SOMNiBUS.buildbin-libdir && E:\biocbuild\bbs-3.21-bioc\R\bin\R.exe CMD INSTALL --build --library=SOMNiBUS.buildbin-libdir SOMNiBUS_1.15.1.tar.gz StartedAt: 2025-02-21 09:09:15 -0500 (Fri, 21 Feb 2025) EndedAt: 2025-02-21 09:10:12 -0500 (Fri, 21 Feb 2025) EllapsedTime: 56.9 seconds RetCode: 0 Status: OK PackageFile: SOMNiBUS_1.15.1.zip PackageFileSize: 610 KiB