Package: SOMNiBUS Version: 1.15.1 Command: /home/biocbuild/bbs-3.21-bioc/R/bin/R CMD check --install=check:SOMNiBUS.install-out.txt --library=/home/biocbuild/bbs-3.21-bioc/R/site-library --timings SOMNiBUS_1.15.1.tar.gz StartedAt: 2025-02-20 02:40:04 -0500 (Thu, 20 Feb 2025) EndedAt: 2025-02-20 02:58:10 -0500 (Thu, 20 Feb 2025) EllapsedTime: 1085.2 seconds RetCode: 0 Status: OK CheckDir: SOMNiBUS.Rcheck Warnings: 0