Package: SOMNiBUS Version: 1.15.1 Command: /home/biocbuild/bbs-3.21-bioc/R/bin/R CMD build --keep-empty-dirs --no-resave-data SOMNiBUS StartedAt: 2025-02-19 19:18:37 -0500 (Wed, 19 Feb 2025) EndedAt: 2025-02-19 19:22:51 -0500 (Wed, 19 Feb 2025) EllapsedTime: 254.2 seconds RetCode: 0 Status: OK PackageFile: SOMNiBUS_1.15.1.tar.gz PackageFileSize: 1.103 MiB