Package: SOMNiBUS Version: 1.15.1 Command: rm -rf SOMNiBUS.buildbin-libdir && mkdir SOMNiBUS.buildbin-libdir && /Users/biocbuild/BBS/utils/build-universal.sh SOMNiBUS_1.15.1.tar.gz /Library/Frameworks/R.framework/Resources/bin/R SOMNiBUS.buildbin-libdir StartedAt: 2025-02-20 00:56:02 -0500 (Thu, 20 Feb 2025) EndedAt: 2025-02-20 00:57:08 -0500 (Thu, 20 Feb 2025) EllapsedTime: 66.1 seconds RetCode: 0 Status: OK PackageFile: SOMNiBUS_1.15.1.tgz PackageFileSize: 634.1 KiB