Package: SOMNiBUS Version: 1.15.1 Command: /home/biocbuild/R/R/bin/R CMD build --keep-empty-dirs --no-resave-data SOMNiBUS StartedAt: 2025-01-29 02:28:37 -0000 (Wed, 29 Jan 2025) EndedAt: 2025-01-29 02:33:05 -0000 (Wed, 29 Jan 2025) EllapsedTime: 268.2 seconds RetCode: 0 Status: OK PackageFile: SOMNiBUS_1.15.1.tar.gz PackageFileSize: 1.09 MiB