Package: SOMNiBUS Version: 1.15.1 Command: /Library/Frameworks/R.framework/Resources/bin/R CMD INSTALL SOMNiBUS StartedAt: 2025-02-20 15:11:49 -0500 (Thu, 20 Feb 2025) EndedAt: 2025-02-20 15:12:08 -0500 (Thu, 20 Feb 2025) EllapsedTime: 19.0 seconds RetCode: 0 Status: OK