Package: SOMNiBUS Version: 1.15.1 Command: /Library/Frameworks/R.framework/Resources/bin/R CMD build --keep-empty-dirs --no-resave-data SOMNiBUS StartedAt: 2025-02-20 17:39:21 -0500 (Thu, 20 Feb 2025) EndedAt: 2025-02-20 17:41:53 -0500 (Thu, 20 Feb 2025) EllapsedTime: 151.7 seconds RetCode: 0 Status: OK PackageFile: SOMNiBUS_1.15.1.tar.gz PackageFileSize: 1.029 MiB