Package: SNPhood Version: 1.37.0 Command: E:\biocbuild\bbs-3.21-bioc\R\bin\R.exe CMD check --no-multiarch --install=check:SNPhood.install-out.txt --library=E:\biocbuild\bbs-3.21-bioc\R\library --no-vignettes --timings SNPhood_1.37.0.tar.gz StartedAt: 2025-02-21 05:55:08 -0500 (Fri, 21 Feb 2025) EndedAt: 2025-02-21 06:05:21 -0500 (Fri, 21 Feb 2025) EllapsedTime: 613.3 seconds RetCode: 0 Status: OK CheckDir: SNPhood.Rcheck Warnings: 0