Package: SNPhood Version: 1.37.0 Command: rm -rf SNPhood.buildbin-libdir && mkdir SNPhood.buildbin-libdir && E:\biocbuild\bbs-3.21-bioc\R\bin\R.exe CMD INSTALL --build --library=SNPhood.buildbin-libdir SNPhood_1.37.0.tar.gz StartedAt: 2025-02-21 09:09:04 -0500 (Fri, 21 Feb 2025) EndedAt: 2025-02-21 09:10:25 -0500 (Fri, 21 Feb 2025) EllapsedTime: 80.9 seconds RetCode: 0 Status: OK PackageFile: SNPhood_1.37.0.zip PackageFileSize: 6.866 MiB