Package: SNPhood Version: 1.37.0 Command: /home/biocbuild/bbs-3.21-bioc/R/bin/R CMD INSTALL SNPhood StartedAt: 2025-02-20 15:55:06 -0500 (Thu, 20 Feb 2025) EndedAt: 2025-02-20 15:56:09 -0500 (Thu, 20 Feb 2025) EllapsedTime: 63.3 seconds RetCode: 0 Status: OK