Package: SNPhood Version: 1.37.0 Command: /home/biocbuild/bbs-3.21-bioc/R/bin/R CMD build --keep-empty-dirs --no-resave-data SNPhood StartedAt: 2025-02-20 19:21:40 -0500 (Thu, 20 Feb 2025) EndedAt: 2025-02-20 19:26:11 -0500 (Thu, 20 Feb 2025) EllapsedTime: 271.3 seconds RetCode: 0 Status: OK PackageFile: SNPhood_1.37.0.tar.gz PackageFileSize: 6.711 MiB