Package: SNPhood Version: 1.37.0 Command: /Library/Frameworks/R.framework/Resources/bin/R CMD check --install=check:SNPhood.install-out.txt --library=/Library/Frameworks/R.framework/Resources/library --no-vignettes --timings SNPhood_1.37.0.tar.gz StartedAt: 2025-02-20 23:23:22 -0500 (Thu, 20 Feb 2025) EndedAt: 2025-02-20 23:34:05 -0500 (Thu, 20 Feb 2025) EllapsedTime: 642.9 seconds RetCode: 0 Status: OK CheckDir: SNPhood.Rcheck Warnings: 0