Package: SNPhood Version: 1.37.0 Command: /Library/Frameworks/R.framework/Resources/bin/R CMD INSTALL SNPhood StartedAt: 2025-02-20 15:10:59 -0500 (Thu, 20 Feb 2025) EndedAt: 2025-02-20 15:11:25 -0500 (Thu, 20 Feb 2025) EllapsedTime: 25.7 seconds RetCode: 0 Status: OK