Package: SNPediaR Version: 1.33.0 Command: /Library/Frameworks/R.framework/Resources/bin/R CMD build --keep-empty-dirs --no-resave-data SNPediaR StartedAt: 2025-02-20 18:19:47 -0500 (Thu, 20 Feb 2025) EndedAt: 2025-02-20 18:19:57 -0500 (Thu, 20 Feb 2025) EllapsedTime: 9.1 seconds RetCode: 0 Status: OK PackageFile: SNPediaR_1.33.0.tar.gz PackageFileSize: 230.4 KiB