Package: SNPediaR Version: 1.33.0 Command: /Library/Frameworks/R.framework/Resources/bin/R CMD check --install=check:SNPediaR.install-out.txt --library=/Library/Frameworks/R.framework/Resources/library --no-vignettes --timings SNPediaR_1.33.0.tar.gz StartedAt: 2025-02-20 21:31:27 -0500 (Thu, 20 Feb 2025) EndedAt: 2025-02-20 21:31:42 -0500 (Thu, 20 Feb 2025) EllapsedTime: 15.1 seconds RetCode: 0 Status: OK CheckDir: SNPediaR.Rcheck Warnings: 0