Package: SNPRelate Version: 1.41.0 Command: E:\biocbuild\bbs-3.21-bioc\R\bin\R.exe CMD check --no-multiarch --install=check:SNPRelate.install-out.txt --library=E:\biocbuild\bbs-3.21-bioc\R\library --no-vignettes --timings SNPRelate_1.41.0.tar.gz StartedAt: 2025-02-20 05:38:34 -0500 (Thu, 20 Feb 2025) EndedAt: 2025-02-20 05:41:08 -0500 (Thu, 20 Feb 2025) EllapsedTime: 153.3 seconds RetCode: 0 Status: OK CheckDir: SNPRelate.Rcheck Warnings: 0