Package: SNPRelate Version: 1.41.0 Command: chmod a+r SNPRelate -R && E:\biocbuild\bbs-3.21-bioc\R\bin\R.exe CMD build --keep-empty-dirs --no-resave-data SNPRelate StartedAt: 2025-02-18 21:41:44 -0500 (Tue, 18 Feb 2025) EndedAt: 2025-02-18 21:44:04 -0500 (Tue, 18 Feb 2025) EllapsedTime: 139.9 seconds RetCode: 0 Status: OK PackageFile: SNPRelate_1.41.0.tar.gz PackageFileSize: 1.914 MiB