Package: SNPRelate Version: 1.41.0 Command: /home/biocbuild/bbs-3.21-bioc/R/bin/R CMD INSTALL SNPRelate StartedAt: 2025-02-19 15:07:27 -0500 (Wed, 19 Feb 2025) EndedAt: 2025-02-19 15:08:15 -0500 (Wed, 19 Feb 2025) EllapsedTime: 47.7 seconds RetCode: 0 Status: OK