Package: SNPRelate Version: 1.41.0 Command: /Library/Frameworks/R.framework/Resources/bin/R CMD check --install=check:SNPRelate.install-out.txt --library=/Library/Frameworks/R.framework/Resources/library --no-vignettes --timings SNPRelate_1.41.0.tar.gz StartedAt: 2025-02-18 23:18:20 -0500 (Tue, 18 Feb 2025) EndedAt: 2025-02-18 23:20:24 -0500 (Tue, 18 Feb 2025) EllapsedTime: 123.5 seconds RetCode: 0 Status: OK CheckDir: SNPRelate.Rcheck Warnings: 0