Package: SNPRelate Version: 1.41.0 Command: /Library/Frameworks/R.framework/Resources/bin/R CMD check --install=check:SNPRelate.install-out.txt --library=/Library/Frameworks/R.framework/Resources/library --no-vignettes --timings SNPRelate_1.41.0.tar.gz StartedAt: 2025-02-18 21:34:55 -0500 (Tue, 18 Feb 2025) EndedAt: 2025-02-18 21:35:52 -0500 (Tue, 18 Feb 2025) EllapsedTime: 57.6 seconds RetCode: 0 Status: OK CheckDir: SNPRelate.Rcheck Warnings: 0