Package: SNPRelate Version: 1.41.0 Command: /Library/Frameworks/R.framework/Resources/bin/R CMD build --keep-empty-dirs --no-resave-data SNPRelate StartedAt: 2025-02-18 17:42:16 -0500 (Tue, 18 Feb 2025) EndedAt: 2025-02-18 17:42:33 -0500 (Tue, 18 Feb 2025) EllapsedTime: 17.2 seconds RetCode: 0 Status: OK PackageFile: SNPRelate_1.41.0.tar.gz PackageFileSize: 3.33 MiB