Package: SNAGEE Version: 1.47.0 Command: E:\biocbuild\bbs-3.21-bioc\R\bin\R.exe CMD check --no-multiarch --install=check:SNAGEE.install-out.txt --library=E:\biocbuild\bbs-3.21-bioc\R\library --no-vignettes --timings SNAGEE_1.47.0.tar.gz StartedAt: 2025-02-21 05:54:13 -0500 (Fri, 21 Feb 2025) EndedAt: 2025-02-21 05:55:07 -0500 (Fri, 21 Feb 2025) EllapsedTime: 53.1 seconds RetCode: 0 Status: OK CheckDir: SNAGEE.Rcheck Warnings: 0