Package: SNAGEE Version: 1.47.0 Command: /home/biocbuild/bbs-3.21-bioc/R/bin/R CMD check --install=check:SNAGEE.install-out.txt --library=/home/biocbuild/bbs-3.21-bioc/R/site-library --timings SNAGEE_1.47.0.tar.gz StartedAt: 2025-02-21 02:01:49 -0500 (Fri, 21 Feb 2025) EndedAt: 2025-02-21 02:02:52 -0500 (Fri, 21 Feb 2025) EllapsedTime: 63.0 seconds RetCode: 0 Status: OK CheckDir: SNAGEE.Rcheck Warnings: 0