Package: SNAGEE Version: 1.47.0 Command: /home/biocbuild/bbs-3.21-bioc/R/bin/R CMD build --keep-empty-dirs --no-resave-data SNAGEE StartedAt: 2025-02-20 19:21:08 -0500 (Thu, 20 Feb 2025) EndedAt: 2025-02-20 19:21:35 -0500 (Thu, 20 Feb 2025) EllapsedTime: 27.0 seconds RetCode: 0 Status: OK PackageFile: SNAGEE_1.47.0.tar.gz PackageFileSize: 169.5 KiB