Package: SNAGEE Version: 1.47.0 Command: /Library/Frameworks/R.framework/Resources/bin/R CMD build --keep-empty-dirs --no-resave-data SNAGEE StartedAt: 2025-02-20 18:19:20 -0500 (Thu, 20 Feb 2025) EndedAt: 2025-02-20 18:19:57 -0500 (Thu, 20 Feb 2025) EllapsedTime: 36.5 seconds RetCode: 0 Status: OK PackageFile: SNAGEE_1.47.0.tar.gz PackageFileSize: 169.5 KiB