Package: SNAGEE Version: 1.47.0 Command: rm -rf SNAGEE.buildbin-libdir && mkdir SNAGEE.buildbin-libdir && /Users/biocbuild/BBS/utils/build-universal.sh SNAGEE_1.47.0.tar.gz /Library/Frameworks/R.framework/Resources/bin/R SNAGEE.buildbin-libdir StartedAt: 2025-02-21 00:54:32 -0500 (Fri, 21 Feb 2025) EndedAt: 2025-02-21 00:54:37 -0500 (Fri, 21 Feb 2025) EllapsedTime: 4.6 seconds RetCode: 0 Status: OK PackageFile: SNAGEE_1.47.0.tgz PackageFileSize: 187.2 KiB