Package: SNAGEE Version: 1.47.0 Command: /Library/Frameworks/R.framework/Resources/bin/R CMD check --install=check:SNAGEE.install-out.txt --library=/Library/Frameworks/R.framework/Resources/library --no-vignettes --timings SNAGEE_1.47.0.tar.gz StartedAt: 2025-02-20 21:30:53 -0500 (Thu, 20 Feb 2025) EndedAt: 2025-02-20 21:31:08 -0500 (Thu, 20 Feb 2025) EllapsedTime: 15.2 seconds RetCode: 0 Status: OK CheckDir: SNAGEE.Rcheck Warnings: 0