Package: SMITE Version: 1.35.0 Command: E:\biocbuild\bbs-3.21-bioc\R\bin\R.exe CMD INSTALL SMITE StartedAt: 2025-02-19 16:15:53 -0500 (Wed, 19 Feb 2025) EndedAt: 2025-02-19 16:17:02 -0500 (Wed, 19 Feb 2025) EllapsedTime: 69.3 seconds RetCode: 0 Status: OK