Package: SMITE Version: 1.35.0 Command: chmod a+r SMITE -R && E:\biocbuild\bbs-3.21-bioc\R\bin\R.exe CMD build --keep-empty-dirs --no-resave-data SMITE StartedAt: 2025-02-19 21:44:56 -0500 (Wed, 19 Feb 2025) EndedAt: 2025-02-19 21:46:50 -0500 (Wed, 19 Feb 2025) EllapsedTime: 114.0 seconds RetCode: 0 Status: OK PackageFile: SMITE_1.35.0.tar.gz PackageFileSize: 3.09 MiB