Package: SMITE Version: 1.35.0 Command: /Library/Frameworks/R.framework/Resources/bin/R CMD build --keep-empty-dirs --no-resave-data SMITE StartedAt: 2025-02-20 18:19:13 -0500 (Thu, 20 Feb 2025) EndedAt: 2025-02-20 18:20:38 -0500 (Thu, 20 Feb 2025) EllapsedTime: 84.5 seconds RetCode: 0 Status: OK PackageFile: SMITE_1.35.0.tar.gz PackageFileSize: 3.088 MiB