Package: SMAD Version: 1.23.0 Command: rm -rf SMAD.buildbin-libdir && mkdir SMAD.buildbin-libdir && E:\biocbuild\bbs-3.21-bioc\R\bin\R.exe CMD INSTALL --build --library=SMAD.buildbin-libdir SMAD_1.23.0.tar.gz StartedAt: 2025-02-21 09:08:39 -0500 (Fri, 21 Feb 2025) EndedAt: 2025-02-21 09:08:59 -0500 (Fri, 21 Feb 2025) EllapsedTime: 19.9 seconds RetCode: 0 Status: OK PackageFile: SMAD_1.23.0.zip PackageFileSize: 760.3 KiB