Package: SMAD Version: 1.23.0 Command: /home/biocbuild/bbs-3.21-bioc/R/bin/R CMD build --keep-empty-dirs --no-resave-data SMAD StartedAt: 2025-02-20 19:20:49 -0500 (Thu, 20 Feb 2025) EndedAt: 2025-02-20 19:21:08 -0500 (Thu, 20 Feb 2025) EllapsedTime: 19.0 seconds RetCode: 0 Status: OK PackageFile: SMAD_1.23.0.tar.gz PackageFileSize: 438 KiB