Package: SMAD Version: 1.23.0 Command: /Library/Frameworks/R.framework/Resources/bin/R CMD INSTALL SMAD StartedAt: 2025-02-20 15:03:01 -0500 (Thu, 20 Feb 2025) EndedAt: 2025-02-20 15:03:07 -0500 (Thu, 20 Feb 2025) EllapsedTime: 6.2 seconds RetCode: 0 Status: OK