Package: SMAD Version: 1.23.0 Command: /Library/Frameworks/R.framework/Resources/bin/R CMD check --install=check:SMAD.install-out.txt --library=/Library/Frameworks/R.framework/Resources/library --no-vignettes --timings SMAD_1.23.0.tar.gz StartedAt: 2025-02-20 21:30:10 -0500 (Thu, 20 Feb 2025) EndedAt: 2025-02-20 21:30:35 -0500 (Thu, 20 Feb 2025) EllapsedTime: 24.3 seconds RetCode: 0 Status: WARNINGS CheckDir: SMAD.Rcheck Warnings: 1